BEGIN:VCALENDAR
VERSION:2.0
PRODID:-//Town of Mosman Park - ECPv6.15.20//NONSGML v1.0//EN
CALSCALE:GREGORIAN
METHOD:PUBLISH
X-WR-CALNAME:Town of Mosman Park
X-ORIGINAL-URL:https://www.mosmanpark.wa.gov.au
X-WR-CALDESC:Events for Town of Mosman Park
REFRESH-INTERVAL;VALUE=DURATION:PT1H
X-Robots-Tag:noindex
X-PUBLISHED-TTL:PT1H
BEGIN:VTIMEZONE
TZID:Australia/Perth
BEGIN:STANDARD
TZOFFSETFROM:+0800
TZOFFSETTO:+0800
TZNAME:AWST
DTSTART:20240101T000000
END:STANDARD
END:VTIMEZONE
BEGIN:VEVENT
DTSTART;TZID=Australia/Perth:20250331T090000
DTEND;TZID=Australia/Perth:20250331T110000
DTSTAMP:20260425T200509
CREATED:20250318T060013Z
LAST-MODIFIED:20250318T060059Z
UID:13222-1743411600-1743418800@www.mosmanpark.wa.gov.au
SUMMARY:Mosman Park Playgroup Easter Open Day
DESCRIPTION:Hop on Over to the Mosman Park Playgroup Easter Open Day!  \nThe Town of Mosman Park is thrilled to support the Mosman Park Playgroup Easter Open Day! \nJoin them on Monday 31 March 2025\, from 9am-11 am at the Alf Adams Pavilion for a morning filled with family fun. \nThis is a fantastic opportunity to see what the Mosman Park Playgroup is all about! As a welcoming community hub\, the playgroup provides a safe and inclusive space for children aged 0-5 and their caregivers to come together\, play\, and connect. Discover how this vibrant community resource fosters friendships and supports families in our local area. \nBring the kids along for music\, dance\, and movement sessions with JazzieShazzies that are sure to get everyone grooving! Plus\, enjoy Easter-themed crafts\, a delicious morning tea\, and plenty more surprises. \nWhether you’re a long-time local or new to the area\, this open day is the perfect chance to meet other families\, explore the playgroup facilities\, and see firsthand the positive impact it has on our community. \nDon’t miss out on this egg-citing event!
URL:https://www.mosmanpark.wa.gov.au/event/mosman-park-playgroup-easter-open-day/
LOCATION:Alf Adams Pavilion\, Solomon St\, Mosman Park\, WA\, 6012\, Australia
ATTACH;FMTTYPE=image/png:https://www.mosmanpark.wa.gov.au/wp-content/uploads/2025/03/1000069015-e1742277524990.png
ORGANIZER;CN="Mosman Park Playgroup":MAILTO:mosmanparkpg@gmail.com
END:VEVENT
BEGIN:VEVENT
DTSTART;TZID=Australia/Perth:20250325T113000
DTEND;TZID=Australia/Perth:20250325T133000
DTSTAMP:20260425T200509
CREATED:20250218T074255Z
LAST-MODIFIED:20250218T074719Z
UID:13052-1742902200-1742909400@www.mosmanpark.wa.gov.au
SUMMARY:Advocare Information Session & Lunch for 55+ Community in Mosman Park
DESCRIPTION:The Town of Mosman Park\, in collaboration with Advocare\, are hosting a free information session for seniors in the Mosman Park and surrounding communities at Alf Adams Pavillion on Tuesday 25 March 11:30am-1:00pm. \nJoin us for an engaging and informative session to learn how Advocare can assist you in navigating your aged care journey. The knowledgeable and friendly team will guide you through various topics\, including: \n\nAdvocacy: Understand how it can assist you.\nIssue resolution: Get help and resources to assist you with resolving issues with aged care services.\nCarefinders: Connect with essential services.\nVolunteer visitors: Enoy companionship and support.\nOutreach services: Access tailored support in your area.\nElder abuse: Identify and address concerns effectively.\n\nAdvocare is an advocate for seniors in WA\, offering free\, confidential\, and unbiased services. We empower older people by providing information and choices\, enabling them to make informed decisions and live life on their terms. \nThe information session will be followed by a light lunch and refreshments at Alf Adams Pavillion. \nRegistration for this event is essential. To register your attendance\, please head to the event page here  \n  \n 
URL:https://www.mosmanpark.wa.gov.au/event/advocare-information-session-lunch-for-55-community-in-mosman-park/
LOCATION:Alf Adams Pavilion\, Solomon St\, Mosman Park\, WA\, 6012\, Australia
ATTACH;FMTTYPE=image/png:https://www.mosmanpark.wa.gov.au/wp-content/uploads/2025/02/Screenshot-2025-02-18-124444.png
ORGANIZER;CN="Town of Mosman Park":MAILTO:admin@mosmanpark.wa.gov.au
END:VEVENT
BEGIN:VEVENT
DTSTART;TZID=Australia/Perth:20250216T163000
DTEND;TZID=Australia/Perth:20250216T203000
DTSTAMP:20260425T200509
CREATED:20241003T024638Z
LAST-MODIFIED:20250206T061825Z
UID:12491-1739723400-1739737800@www.mosmanpark.wa.gov.au
SUMMARY:February Sunset Eats
DESCRIPTION:Sunset Eats is back! Food trucks will be returning to Mosman Park Sunday February 16 2025 at 4:30pm. \nRelax with an evening of street food and live music as the sun sets on Mossie Park. \nCome on down to Solomon Street\, Mann Oval. There’ll be a variety of food trucks\, ambient live music and activities on offer. \nSunset Eats aims to bring the neighbourhood together of all ages with a fun and relaxed atmosphere. \nList of food truck vendors \n\nFelix and French\nZab Salad Indian Food\nMild Bite\nBUFFA KRISPS\nMama Poverllo’s Pizzeria\nHungry Dragon\nJustChillin\nCanarian Cuisine\nPak Catering\nConesNCoffee\n\nFAQs\nWhat is free to the community?\nEntry plus all the activities are free. The food trucks will charge for food and beverages. \nWhat food will be served at Sunset Eats?\nA variety of street food options will be available. We will provide the list of food vendors closer to the event here on our website and Facebook page. \nAm I allowed to bring alcohol to Sunset Eats?\nSunset Eats is an alcohol-free event. \nHow do we get to Sunset Eats?\nWalk: Work up an appetite and walk with your neighbours\nBus: Transperth Route 107 stop on Victoria Street\nCycle: there is a temporary bike rack near Alf Adams Pavilion\nCar: street parking is located on Lochee Street. ACROD Parking available south of Alf Adams Pavilion. \nWe highly encourage walking\, cycling or carpooling to the event if you can. \nCan I bring my dog?\nYes! But they’ll need to be on a lead at all times at the event. \nIs there seating at the event?\nLimited seating is available at picnic benches in the area. We recommend bringing your own picnic rug\, a blanket or a camp chair. \nAre there toilets at the event?\nYes. An accessible toilet is available outside the Alf Adams Pavilion. Toilets will be signposted at the event.
URL:https://www.mosmanpark.wa.gov.au/event/february-sunset-eats/
LOCATION:WA
ATTACH;FMTTYPE=image/jpeg:https://www.mosmanpark.wa.gov.au/wp-content/uploads/2024/10/02_ToMP_Sunset_Eats_365-scaled.jpeg
END:VEVENT
BEGIN:VEVENT
DTSTART;TZID=Australia/Perth:20250125T100000
DTEND;TZID=Australia/Perth:20250125T120000
DTSTAMP:20260425T200509
CREATED:20241217T031733Z
LAST-MODIFIED:20241217T031733Z
UID:12813-1737799200-1737806400@www.mosmanpark.wa.gov.au
SUMMARY:Citizenship Ceremony and Citizen of the Year awards
DESCRIPTION:Join us on 25 Jan 2025 as we welcome and congratulate Mosman Parks newest Australian Citizens followed by a presentation of the Mosman Park Citizen of the Year awards. \nGuests of the conferees\, nominees and all community members are welcome to attend. \n10am on Saturday 25 January 2025.\n1 Memorial Drive.
URL:https://www.mosmanpark.wa.gov.au/event/citizenship-ceremony-and-citizen-of-the-year-awards-2/
LOCATION:Memorial Park
ATTACH;FMTTYPE=image/jpeg:https://www.mosmanpark.wa.gov.au/wp-content/uploads/2024/12/Active-COTY-2024-MP-Sisterhood.jpg
ORGANIZER;CN="Town of Mosman Park":MAILTO:admin@mosmanpark.wa.gov.au
END:VEVENT
END:VCALENDAR