BEGIN:VCALENDAR
VERSION:2.0
PRODID:-//Town of Mosman Park - ECPv6.15.20//NONSGML v1.0//EN
CALSCALE:GREGORIAN
METHOD:PUBLISH
X-WR-CALNAME:Town of Mosman Park
X-ORIGINAL-URL:https://www.mosmanpark.wa.gov.au
X-WR-CALDESC:Events for Town of Mosman Park
REFRESH-INTERVAL;VALUE=DURATION:PT1H
X-Robots-Tag:noindex
X-PUBLISHED-TTL:PT1H
BEGIN:VTIMEZONE
TZID:Australia/Perth
BEGIN:STANDARD
TZOFFSETFROM:+0800
TZOFFSETTO:+0800
TZNAME:AWST
DTSTART:20240101T000000
END:STANDARD
END:VTIMEZONE
BEGIN:VEVENT
DTSTART;TZID=Australia/Perth:20251213T180000
DTEND;TZID=Australia/Perth:20251213T223000
DTSTAMP:20260425T211520
CREATED:20251030T033025Z
LAST-MODIFIED:20251201T040204Z
UID:14771-1765648800-1765665000@www.mosmanpark.wa.gov.au
SUMMARY:Festive Flick 2025
DESCRIPTION:Date: Saturday 13 December 2025Location: Tom Perrott Reserve\, Mosman ParkGates open: 6:00pmMovie screening: 7:45pm \nGet into the Christmas spirit with Festive Flick – a free outdoor screening of the much-loved holiday classic ELF! \nBring your picnic rug and join your neighbours for a relaxed evening under the stars at Tom Perrott Reserve. Enjoy free popcorn and fairy floss from Sweet Cart\, plus tasty dinner and dessert options available to purchase from Street Food Lab and Quokka Carts. \nTo help make the night safe and enjoyable for everyone\, we kindly ask that dogs and alcohol are left at home. \nThis is a wonderful opportunity to come together\, celebrate the season\, and share a little Christmas cheer right here in Mosman Park. \nFree entry – all welcome!
URL:https://www.mosmanpark.wa.gov.au/event/festiveflick/
LOCATION:Tom Perrott Reserve\, McCabe St\, Mosman Park\, WA\, 6012\, Australia
ATTACH;FMTTYPE=image/jpeg:https://www.mosmanpark.wa.gov.au/wp-content/uploads/2025/10/2025-Festive-Flick-Website-Event-Image_V2.jpg
ORGANIZER;CN="Town of Mosman Park":MAILTO:admin@mosmanpark.wa.gov.au
END:VEVENT
BEGIN:VEVENT
DTSTART;TZID=Australia/Perth:20260124T100000
DTEND;TZID=Australia/Perth:20260124T120000
DTSTAMP:20260425T211520
CREATED:20260121T075505Z
LAST-MODIFIED:20260121T075505Z
UID:15242-1769248800-1769256000@www.mosmanpark.wa.gov.au
SUMMARY:January 2026 Citizenship Ceremony
DESCRIPTION:Join us on Saturday 24 January 2026 from 10am – 12pm as the Town proudly hosts our Citizenship Ceremony on the front lawn of our Administration Building at Memorial Park\, 1 Memorial Drive. \nLet’s welcome and celebrate those who are becoming citizens. \nMorning tea will be served from 11am – 12pm – come along\, share in the joy\, and help us give our newest citizens a warm Mosman Park welcome.
URL:https://www.mosmanpark.wa.gov.au/event/january-2026-citizenship-ceremony/
LOCATION:Town of Mosman Park Administration\, 1 Memorial Drive\, Mosman Park\, WA\, 6012\, Australia
ATTACH;FMTTYPE=image/jpeg:https://www.mosmanpark.wa.gov.au/wp-content/uploads/2026/01/TOMP-Website-Event-Images-Jan-Citizenship-Ceremony.jpg
END:VEVENT
BEGIN:VEVENT
DTSTART;TZID=Australia/Perth:20260222T163000
DTEND;TZID=Australia/Perth:20260222T230000
DTSTAMP:20260425T211520
CREATED:20260121T075108Z
LAST-MODIFIED:20260121T075108Z
UID:15238-1771777800-1771801200@www.mosmanpark.wa.gov.au
SUMMARY:Sunset Eats 22 February 2026
DESCRIPTION:Sunset Eats series finale – your last chance to catch the flavour\, fun and community spirit at Mann Oval Sunday 22 February. \nFrom 4:30pm\, the oval will come alive with mouth-watering food trucks\, live local music and activities for all ages. It’s the perfect chance to share a meal\, catch up with friends and neighbours\, and soak in the sunset together. \nPack your picnic rug or camp chair\, bring along your family (and your dog on a lead)\, and settle in for a relaxed evening under the Mossie Park sky. \nSunset Eats is all about good food\, good music and even better company – a neighbourhood gathering where everyone is welcome.
URL:https://www.mosmanpark.wa.gov.au/event/sunset-eats-22-february-2026/
LOCATION:Mann Oval\, Near corner of Lochee and Solomon Sts\, Mosman Park\, WA\, 6012\, Australia
ATTACH;FMTTYPE=image/jpeg:https://www.mosmanpark.wa.gov.au/wp-content/uploads/2026/01/TOMP-Website-Event-Sunset-Eats-Feb-22_2026.jpg
ORGANIZER;CN="Town of Mosman Park":MAILTO:admin@mosmanpark.wa.gov.au
END:VEVENT
BEGIN:VEVENT
DTSTART;TZID=Australia/Perth:20260425T094500
DTEND;TZID=Australia/Perth:20260425T113000
DTSTAMP:20260425T211520
CREATED:20260203T050125Z
LAST-MODIFIED:20260415T102052Z
UID:15285-1777110300-1777116600@www.mosmanpark.wa.gov.au
SUMMARY:ANZAC Day 2026
DESCRIPTION:ANZAC Day Commemoration Service\nPlease join us at the Town of Mosman Park as we commemorate the service and supreme sacrifice of Australian men and women who have represented our nation in conflicts in our region and around the world. \nThe ANZAC Day Commemoration Service will take place at 9:45am in Memorial Park\, on the corner Bay View Terrace and Memorial Drive\, Mosman Park. Seating will be provided. \nThe commemorative service is conducted by the Town of Mosman Park in conjunction with the Mosman Park Sub-Branch of the RSL. \nPlease join us for tea\, coffee and biscuits following the service. \nFAQs \nHow do we get to the ANZAC Day Commemorations in Memorial Park?  \nThe Town highly encourages walking\, cycling\, or carpooling to the event. There is limited car-parking available. \nWalk: Walk with your family\, friends or neighbours \nBus: Transperth Bus Route 107\, stopping at Palmerston Street. \nCycle: Bike racks are available at the Town’s Administration Building. \nCar: Please do not park on the lawn of Memorial Park. Street parking is located on Memorial Drive. ACROD Parking available in the Town of Mosman Park administration building carpark close to the event seating with low gradient brick pathways and lawn. Additional carparks are available in Jabe Dodd Park\, accessed from Bay View Tce (north of Mosman Park Bowling Club) and Johnson Parade (near the Swan Canoe Club and there is a short steep gradient walk). \nWhat is free to the community?\nThis a free event. \nAm I allowed to bring alcohol to the ANZAC Day commemorations?\nThe ANZAC Day event in Memorial Park is an alcohol-free event. \nCan I bring my dog?\nYes! But they’ll need to be on a lead at all times at the event. \nIs there seating at the event?\nSeating will be available on the lawn. You are welcome to BYO seating if preferred. \nAre there toilets at the event?\nYes. An accessible toilet is available inside the Town of Mosman Park Administration Building. Toilets will be signposted at the event. \nI would like to lay a wreath \nWreaths are a commemorative symbol for ANZAC Day. The Commemoration Service includes time for ‘Laying of the Wreaths.’ After laying a wreath\, the person stands to attention and bows their head (or salutes if wearing military uniform). If you would like to bring a wreath\, you will need to organise this yourself\, the Town or RSL will not organise for you.
URL:https://www.mosmanpark.wa.gov.au/event/anzac-day-2026/
LOCATION:Memorial Park
ATTACH;FMTTYPE=image/jpeg:https://www.mosmanpark.wa.gov.au/wp-content/uploads/2026/02/04_ToMP_ANZAC_2025_103-scaled.jpg
END:VEVENT
BEGIN:VEVENT
DTSTART;TZID=Australia/Perth:20260520T180000
DTEND;TZID=Australia/Perth:20260520T200000
DTSTAMP:20260425T211520
CREATED:20260414T041743Z
LAST-MODIFIED:20260414T042020Z
UID:15515-1779300000-1779307200@www.mosmanpark.wa.gov.au
SUMMARY:Volunteer Speed Dating Networking Event
DESCRIPTION:Connect. Discover. Get Involved. \nLooking to make a difference in your community or find your next volunteer opportunity? \nJoin us for our Volunteer Speed Dating Networking Event — a fun\, fast-paced way to connect local community members with volunteer-involving organisations (VIOs) and community groups. This is your chance to find the perfect volunteer role – no apps required 😉 \nHow it works \nCommunity groups and organisations will host tables\, while attendees rotate between them in short\, timed sessions (10–15 minutes each). \nThis gives you the chance to: \n\nLearn about different volunteer opportunities\nAsk questions and meet group representatives\nDiscover causes that match your interests and availability\n\nThe evening will wrap up with informal networking over light catering\, giving everyone time to continue conversations and build connections. \nWhy attend? \nThis event is designed to: \n\nShowcase the wide range of volunteer opportunities in Mosman Park\, Cottesloe and surrounding areas\nHelp organisations connect with potential volunteers\nStrengthen relationships across local community groups\nCelebrate the incredible impact of volunteers during National Volunteer Week (18–24 May 2026)\n\nWho should attend? \n\nCommunity members interested in volunteering\nLocal organisations and community groups seeking volunteers\nAnyone looking to connect\, contribute and be part of the local community\n\nGet involved \nWhether you’re an individual ready to give back\, or an organisation looking to grow your volunteer base\, we would love for you to join us. \n👉 Register your interest today and come along and meet your match. \n 
URL:https://www.mosmanpark.wa.gov.au/event/volunteer-speed-dating-networking-event/
LOCATION:Alf Adams Pavilion\, Solomon St\, Mosman Park\, WA\, 6012\, Australia
ORGANIZER;CN="Town of Cottesloe":MAILTO:town@cottesloe.wa.gov.au
END:VEVENT
END:VCALENDAR