BEGIN:VCALENDAR
VERSION:2.0
PRODID:-//Town of Mosman Park - ECPv6.15.20//NONSGML v1.0//EN
CALSCALE:GREGORIAN
METHOD:PUBLISH
X-WR-CALNAME:Town of Mosman Park
X-ORIGINAL-URL:https://www.mosmanpark.wa.gov.au
X-WR-CALDESC:Events for Town of Mosman Park
REFRESH-INTERVAL;VALUE=DURATION:PT1H
X-Robots-Tag:noindex
X-PUBLISHED-TTL:PT1H
BEGIN:VTIMEZONE
TZID:Australia/Perth
BEGIN:STANDARD
TZOFFSETFROM:+0800
TZOFFSETTO:+0800
TZNAME:AWST
DTSTART:20240101T000000
END:STANDARD
END:VTIMEZONE
BEGIN:VEVENT
DTSTART;TZID=Australia/Perth:20251004T103000
DTEND;TZID=Australia/Perth:20251004T123000
DTSTAMP:20260425T084532
CREATED:20250912T000848Z
LAST-MODIFIED:20250917T230439Z
UID:14476-1759573800-1759581000@www.mosmanpark.wa.gov.au
SUMMARY:Clothing Swap
DESCRIPTION:Have you got clothes\, shoes\, and accessories you no longer wear? 👗 Want the joy of a refreshed wardrobe\, without spending big? Then join WMRC’s clothing swap! \nRSVP: https://events.humanitix.com/wmrc-clothing-swap-mosman-park\n📅Date: Saturday\, 4th October\n⏰ Time: Come anytime between 10:30 am – 12:30 pm\n💰 Cost: $5.00\n🚩Location: Alf Adams Pavilion\, located on Solomon St\, Mosman Park.\n🚗 Parking: Street parking is available along Solomon St. \n🧵💍 Please feel free to bring along any clothes and jewellery that need mending – Repair Lab will fix them on the spot! \n❌ Please no kids’ clothes or bric-a-brac at this event ❌ \nClothing collection points will be available the week leading up to the event.\nA maximum of 5 items per person will be allowed at these locations during opening hours: \n\nEvelyn H Library (Subiaco) (Fri 26th Sept – Thurs 2nd Oct)\nThe Grove Library (Fri 26th Sept – Thurs 2nd Oct)\nBay View Community Centre (Fri 26th Sept – Thurs 2nd Oct)\nMosman Park Council Office (Fri 26th Sept – Thurs 2nd Oct)\nAlf Adams Pavilion (Friday 3rd Oct from 2.30pm – 4pm only)\n\nIf you have more clothing to donate\, please bring the rest with you on the day of the swap! \nPlease ensure any clothing donated is clean and in good condition. \nTerms & Conditions \nMember council tickets are available to residents from Claremont\, Cottesloe\, Mosman Park\, Peppermint Grove & Subiaco. General admission tickets are available for Cambridge\, Nedlands and residents from other councils. \nTickets are limited and non-refundable. \nThis event is part of WMRC’s Textile Trail 2025\, taking place in October. To find out more\, visit the Textile Trail webpage and WMRC’s Humanitix page.
URL:https://www.mosmanpark.wa.gov.au/event/clothing-swap/
LOCATION:Alf Adams Pavilion\, Solomon St\, Mosman Park\, WA\, 6012\, Australia
ATTACH;FMTTYPE=image/png:https://www.mosmanpark.wa.gov.au/wp-content/uploads/2025/09/FB-Social-tile-MP-Logo-Only-Clothing-Swap-1.png
END:VEVENT
BEGIN:VEVENT
DTSTART;TZID=Australia/Perth:20251010T170000
DTEND;TZID=Australia/Perth:20251010T233000
DTSTAMP:20260425T084532
CREATED:20251007T015556Z
LAST-MODIFIED:20251007T015612Z
UID:14615-1760115600-1760139000@www.mosmanpark.wa.gov.au
SUMMARY:Community Sessions at Camelot Arts Club
DESCRIPTION:As the days get longer\, Camelot Arts Club is opening its courtyard and lawn for Community Sessions — a relaxed series of summer evenings filled with live music\, great food\, and good company. \nEnjoy a sunset drink from the bar\, delicious wood-fired pizza\, and the sounds of Karl van Wel\, performing live under the open sky. \nWhether you’re winding down after the working week or spending time with family and friends\, Community Sessions is the perfect way to ease into the weekend. \nFree entry – everyone is welcome!Register for your free ticket: camelotartsclub.com/whats-on/communitysessions \nDate: Friday 10 OctoberTime: 5pm – 9pmLocation: Camelot Arts Club\, Mosman Park
URL:https://www.mosmanpark.wa.gov.au/event/community-sessions-at-camelot-arts-club/
LOCATION:Camelot Arts\, 16 Lochee Street\, Mosman Park
ATTACH;FMTTYPE=image/jpeg:https://www.mosmanpark.wa.gov.au/wp-content/uploads/2025/10/557744641_122243531168175264_75907918280039013_n.jpg
END:VEVENT
BEGIN:VEVENT
DTSTART;TZID=Australia/Perth:20251012T163000
DTEND;TZID=Australia/Perth:20251012T203000
DTSTAMP:20260425T084532
CREATED:20250805T031402Z
LAST-MODIFIED:20251002T030007Z
UID:14068-1760286600-1760301000@www.mosmanpark.wa.gov.au
SUMMARY:Sunset Eats is back this spring!
DESCRIPTION:Sunset Eats is back – and we’re kicking off the season with a feast for the senses. \nFrom 4:30pm on Sunday 12 October\, Mann Oval will be filled with the smell of sizzling street food\, the sound of live local music and the buzz of neighbours coming together to enjoy the evening. \nBring your picnic rug or a comfy chair\, round up your friends and family\, and settle in as the sun sets over Mossie Park. With food trucks\, music and activities for all ages\, it’s the perfect way to reconnect with community and start the season on a high note. \nSunset Eats is more than just dinner outdoors – it’s a chance to share good food\, good company and a warm Mosman Park atmosphere. \nList of food truck vendors \n\nMiam Miam a Bite of France serving authentic French delights\nUnicone with sweet and colourful ice cream creations\nMama Poverello’s Pizzeria offering woodfired pizza perfection\nJust Chillin’ bringing tasty bites with a twist\nRJ’s Kai Kart featuring island-style street eats\nMr Goz preparing freshly made Turkish gozleme\nEl Aleman Loco with German street food favourites\nBOMBAYLICIOUS showcasing bold and flavourful Indian cuisine\nMaster Catering WA creating hearty meals made with love\nJumplings serving handmade dumplings to warm the soul\n\nFAQs\nWhat is free to the community?\nEntry plus all the activities are free. The food trucks will charge for food and beverages. \nWhat food will be served at Sunset Eats?\nA variety of street food options will be available. We will provide the list of food vendors closer to the event here on our website and Facebook page. \nAm I allowed to bring alcohol to Sunset Eats?\nSunset Eats is an alcohol-free event. \nHow do we get to Sunset Eats?\nWalk: Work up an appetite and walk with your neighbours\nBus: Transperth Route 107 stop on Victoria Street\nCycle: there is a temporary bike rack near Alf Adams Pavilion\nCar: street parking is located on Lochee Street. ACROD Parking available south of Alf Adams Pavilion. \nWe highly encourage walking\, cycling or carpooling to the event if you can. \nCan I bring my dog?\nYes! But they’ll need to be on a lead at all times at the event. \nIs there seating at the event?\nLimited seating is available at picnic benches in the area. We recommend bringing your own picnic rug\, a blanket or a camp chair. \nAre there toilets at the event?\nYes. An accessible toilet is available outside the Alf Adams Pavilion. Toilets will be signposted at the event. \nWhat are the future dates of Sunset Eats?\nSunday 16 November 2025 and Sunday 22 February 2026.
URL:https://www.mosmanpark.wa.gov.au/event/sunset-eats-is-back-this-spring/
LOCATION:Mann Oval\, Near corner of Lochee and Solomon Sts\, Mosman Park\, WA\, 6012\, Australia
ATTACH;FMTTYPE=image/jpeg:https://www.mosmanpark.wa.gov.au/wp-content/uploads/2025/08/TOMP-Website-Sunset-Eats-12-OCT-2025.jpg
ORGANIZER;CN="Town of Mosman Park":MAILTO:admin@mosmanpark.wa.gov.au
END:VEVENT
BEGIN:VEVENT
DTSTART;TZID=Australia/Perth:20251019T140000
DTEND;TZID=Australia/Perth:20251019T160000
DTSTAMP:20260425T084532
CREATED:20251007T033332Z
LAST-MODIFIED:20251007T035925Z
UID:14619-1760882400-1760889600@www.mosmanpark.wa.gov.au
SUMMARY:Mosman Park Tennis Club Open Day
DESCRIPTION:Curious about tennis or pickleball? Join the Mosman Park Tennis Club for their Open Day – a fun-filled afternoon both on and off the court! \n\nTry your hand at pickleball or join a free cardio tennis session\nEnjoy social tennis for all ages\nTreat yourself at the bake sale and go in the draw for great prizes\n\nDate: Sunday\, October 19Time: 2-4pmLocation: Mosman Park Tennis Club\, 80 McCabe Street \nBring your family\, friends\, or just your love of sport – everyone is welcome! \nFind out more at play.tennis.com.au/mosmanparktennisclub
URL:https://www.mosmanpark.wa.gov.au/event/mosman-park-tennis-club-open-day/
LOCATION:Mosman Park Tennis Club\, 80 McCabe St\, Mosman Park\, Western Australia\, 6012\, Australia
ATTACH;FMTTYPE=image/jpeg:https://www.mosmanpark.wa.gov.au/wp-content/uploads/2025/10/559106715_18293530579270950_7593935134524871269_n-e1759809559662.jpg
END:VEVENT
BEGIN:VEVENT
DTSTART;TZID=Australia/Perth:20251023T183000
DTEND;TZID=Australia/Perth:20251023T203000
DTSTAMP:20260425T084532
CREATED:20250923T042114Z
LAST-MODIFIED:20250923T042114Z
UID:14541-1761244200-1761251400@www.mosmanpark.wa.gov.au
SUMMARY:Paint and Sip at Camelot Arts Club
DESCRIPTION:Wine down your week in style at Camelot Arts Club’s very first Paint and Sip evening. \nJoin WA abstract landscape artist Annabelle Brockman for a fun\, step-by-step guided session where you’ll unleash your creativity\, sip on a glass of wine\, and take home your own colourful masterpiece. \nExpect good music\, plenty of laughs\, and all materials provided. You can even upgrade your night with a wine and charcuterie hamper\, all set within the stunning heritage-listed Camelot Arts Club. \nWhen: Thursday 23 October 2025\, 6:30–8:30pm (doors open 6pm)Tickets: $60 – limited spots availableBook your tickets here: camelotartsclub.com/whats-on/paintandsip \nBring your friends\, a date\, or come solo – don’t miss out on this creative night out.
URL:https://www.mosmanpark.wa.gov.au/event/paint-and-sip-at-camelot-arts-club/
LOCATION:Camelot Arts\, 16 Lochee Street\, Mosman Park
ATTACH;FMTTYPE=image/png:https://www.mosmanpark.wa.gov.au/wp-content/uploads/2025/09/Megatix-Banner-1.png
END:VEVENT
END:VCALENDAR