BEGIN:VCALENDAR
VERSION:2.0
PRODID:-//Town of Mosman Park - ECPv6.15.20//NONSGML v1.0//EN
CALSCALE:GREGORIAN
METHOD:PUBLISH
X-ORIGINAL-URL:https://www.mosmanpark.wa.gov.au
X-WR-CALDESC:Events for Town of Mosman Park
REFRESH-INTERVAL;VALUE=DURATION:PT1H
X-Robots-Tag:noindex
X-PUBLISHED-TTL:PT1H
BEGIN:VTIMEZONE
TZID:Australia/Perth
BEGIN:STANDARD
TZOFFSETFROM:+0800
TZOFFSETTO:+0800
TZNAME:AWST
DTSTART:20240101T000000
END:STANDARD
END:VTIMEZONE
BEGIN:VEVENT
DTSTART;TZID=Australia/Perth:20251101T080000
DTEND;TZID=Australia/Perth:20251101T100000
DTSTAMP:20260421T161752
CREATED:20250822T025757Z
LAST-MODIFIED:20251007T035826Z
UID:14348-1761984000-1761991200@www.mosmanpark.wa.gov.au
SUMMARY:Brunch with the Birds 2025
DESCRIPTION:Start your weekend surrounded by birdsong and bushland beauty! Join us for Brunch with the Birds – a free\, guided bird walk through tranquil Minim Cove Park\, followed by a relaxed community brunch. \nLed by experienced guides from BirdLife WA\, this 1.5-hour walk is a great opportunity to spot and learn about the diverse bird species that call Mosman Park home. Whether you’re an avid birder or simply curious\, all are welcome. \nAfter the walk\, enjoy a delicious shared brunch – a perfect chance to mingle with fellow nature lovers and chat about your sightings. \nWhere: Minim Cove Park\, meeting at Hutchinson Avenue carpark\nWhen: Saturday\, 1 November | 8.00am start\nCost: Free – spaces are limited and bookings are essential\nRSVP: Book your free ticket via Humanitix or call (08) 9383 6600 \nBring your binoculars (if you have them)\, comfortable walking shoes\, and your curiosity!
URL:https://www.mosmanpark.wa.gov.au/event/brunch-with-the-birds-2025/
LOCATION:Minim Cove Park – Hutchinson Ave\, Faulkner Cir Hutchinson Ave\, Mosman Park\, Western Australia\, 6012\, Australia
ATTACH;FMTTYPE=image/jpeg:https://www.mosmanpark.wa.gov.au/wp-content/uploads/2025/08/2025-Brunch-with-the-Birds-Website-Event-Header.jpg
ORGANIZER;CN="Town of Mosman Park":MAILTO:admin@mosmanpark.wa.gov.au
END:VEVENT
BEGIN:VEVENT
DTSTART;TZID=Australia/Perth:20251109T093000
DTEND;TZID=Australia/Perth:20251109T143000
DTSTAMP:20260421T161752
CREATED:20250923T073141Z
LAST-MODIFIED:20250923T073953Z
UID:14546-1762680600-1762698600@www.mosmanpark.wa.gov.au
SUMMARY:Men's Shed Craft Market 2025
DESCRIPTION:The Mosman Park Men’s Shed Craft Market is back! \nThe much-loved Mosman Park Men’s Shed Craft Market returns this year\, bringing a vibrant day of stalls\, activities\, food\, and entertainment to the community. \n📍Location: Tom Perrott Reserve\, Mosman Park \n📅 Date: Sunday 9th November 2025 \n🕤Time: 9:30am – 2:30pm \nThis family-friendly event will feature: \n\nCraft and food stalls\,\nMen’s Shed BBQ and Devonshire teas\,\nCoffee cart and food trucks\,\nChildren’s activity precinct with cuddly animals\, face painting\, bubble blowing and more ($10 all-day entry)\,\nLive music\,\nNot-for-profit community stalls\,\nEmergency service displays\, including the Big Red Fire Truck.\n\n✨ General admission is just $2\, making it a fantastic\, affordable day out for all ages. \nThis year’s event is proudly supported by the Town of Mosman Park. Don’t miss the opportunity to enjoy a day of community connection\, local creativity\, and fun for the whole family. \n  \n 
URL:https://www.mosmanpark.wa.gov.au/event/mens-shed-craft-market-2025/
LOCATION:Tom Perrott Reserve\, McCabe St\, Mosman Park\, WA\, 6012\, Australia
ATTACH;FMTTYPE=image/jpeg:https://www.mosmanpark.wa.gov.au/wp-content/uploads/2025/09/326621087_878227086949603_3154939094389116188_n.jpg
END:VEVENT
BEGIN:VEVENT
DTSTART;TZID=Australia/Perth:20251110T100000
DTEND;TZID=Australia/Perth:20251110T120000
DTSTAMP:20260421T161752
CREATED:20250918T065405Z
LAST-MODIFIED:20250918T065715Z
UID:14509-1762768800-1762776000@www.mosmanpark.wa.gov.au
SUMMARY:Seniors Week Morning Tea 2025
DESCRIPTION:Celebrate Seniors Week with a relaxed and friendly morning at the Mosman Park Bowling Club. Enjoy tea\, coffee\, and delicious treats\, along with great company and conversation. \nDate: Monday\, 10 November 2025Time: 10am–12pmLocation: Mosman Park Bowling ClubWho: Residents aged 55+ from Mosman Park\, Cottesloe\, and Peppermint GroveCost: Free \nSpaces are limited\, so please RSVP by calling 9383 6600 or emailing admin@mosmanpark.wa.gov.au. \nPresented by the Town of Mosman Park\, Town of Cottesloe\, and Shire of Peppermint Grove.
URL:https://www.mosmanpark.wa.gov.au/event/seniors-week-morning-tea-2025/
LOCATION:Mosman Park Bowling Club
ATTACH;FMTTYPE=image/jpeg:https://www.mosmanpark.wa.gov.au/wp-content/uploads/2025/09/2025-Seniors-Week-Morning-Tea-Website-Header.jpg
END:VEVENT
BEGIN:VEVENT
DTSTART;TZID=Australia/Perth:20251110T100000
DTEND;TZID=Australia/Perth:20251114T170000
DTSTAMP:20260421T161752
CREATED:20251009T060034Z
LAST-MODIFIED:20251017T031857Z
UID:14636-1762768800-1763139600@www.mosmanpark.wa.gov.au
SUMMARY:Seniors Week 2025 Activities
DESCRIPTION:Join us in celebrating Seniors Week 2025 with a vibrant program of events proudly presented by the Town of Mosman Park\, Shire of Peppermint Grove\, and Town of Cottesloe. \nEnjoy a variety of activities designed to connect\, inspire and celebrate our local seniors\, from paint and sip classes and exercise classes to health checkups\, movie screenings\, guided art walks\, music performances and interactive workshops\, we have something on offer for everyone! \nSome events are free\, while others have a small cost to participate.Click below for full event details and booking information. \n\n\n	\n\n		\n            \n                \n                    Seniors Week Morning Tea                \n            \n            \n                \n                    \n                        Celebrate Seniors Week with a relaxed and friendly morning at the Mosman Park Bowling Club. Enjoy tea\, coffee\, and delicious treats\, along with great company and conversation. \nDate: Monday\, 10 November 2025Time: 10am–12pmLocation: Mosman Park Bowling ClubWho: Residents aged 55+ from Mosman Park\, Cottesloe\, and Peppermint GroveCost: Free \nSpaces are limited\, so please RSVP by calling 9383 6600 or emailing admin@mosmanpark.wa.gov.au. \nPresented by the Town of Mosman Park\, Town of Cottesloe\, and Shire of Peppermint Grove. \n                    \n                \n            \n\n			\n\n\n \n\n\n	\n\n		\n            \n                \n                    Movie Screening & Afternoon Tea: Grand Budapest Hotel                \n            \n            \n                \n                    \n                        Movie Afternoon at The Heritage Collective \n\n\n\n\n\n\nEnjoy a delightful afternoon at the beautiful heritage-listed theatre at The Heritage Collective for a special screening of The Grand Budapest Hotel. Begin the afternoon with a delicious afternoon tea\, followed by the film screening in this charming historic venue. \n📅 Date: Monday\, 10 November 2025\n🕐 Time: 1:30pm (Afternoon Tea) | 2:00pm (Movie Screening)\n📍 Location: The Heritage Collective Theatre\, Corner Warton Street and Marine Parade\, Cottesloe\n💰 Cost: $5.50\n🔗 To book: https://www.trybooking.com/DGSME \nAbout Grand Budapest Hotel  \nIn the 1930s\, the Grand Budapest Hotel is a popular European ski resort\, presided over by concierge Gustave H. (Ralph Fiennes). Zero\, a junior lobby boy\, becomes Gustave’s friend and protege. Gustave prides himself on providing first-class service to the hotel’s guests\, including the needs of the many elderly who stay there. When one of Gustave’s lovers dies mysteriously\, Gustave finds himself the recipient of a priceless painting and the chief suspect in her murder. \n\n\n\n\n\n\n\n  \n                    \n                \n            \n\n			\n\n\n\n\n\n	\n\n		\n            \n                \n                    Free Hearing Checks – Lions Hearing Bus                \n            \n            \n                \n                    \n                        The Lions Hearing Bus is offering free hearing checks for seniors living in the Town of Cottesloe\, Town of Mosman Park\, and Shire of Peppermint Grove. Don’t miss this great opportunity to check in on your hearing health! \n📅 Date: Tuesday\, 11 November 2025📍 Location: 17 Napier Street\, Cottesloe💰 Cost: Free📞 Bookings: Email town@cottesloe.wa.gov.au call 9285 5000\, or simply drop in on the day! \n                    \n                \n            \n\n			\n\n\n\n\n\n	\n\n		\n            \n                \n                    Armchair Yoga at The Heritage Collective                \n            \n            \n                \n                    \n                        Start your morning with a gentle and rejuvenating Armchair Yoga session in the beautiful Heritage Collective Club Lounge. These seated yoga poses are designed to improve mobility\, flexibility\, and relaxation\, with the chair offering extra support and comfort. Join us for one 30-minute session\, or challenge yourself with two back-to-back classes! \n📅 Date: Tuesday\, 11 November 2025⏰ Time: 9:00am – 10:00am📍 Location: The Heritage Collective Club Lounge\, Corner Warton Street and Marine Parade\, Cottesloe💰 Cost: Gold coin donation (payable on the day)📧 Register: elizabethc@curtinheritage.com.au | ☎️ (08) 6458 7555 \n  \n                    \n                \n            \n\n			\n\n\n\n\n\n	\n\n		\n            \n                \n                    Prime Movers Fitness & Morning Tea                \n            \n            \n                \n                    \n                        Get moving with Prime Movers: a fun\, low-impact exercise session designed to improve strength\, flexibility\, and balance while connecting with others in your community. Enjoy a lively morning of movement\, followed by a relaxing morning tea to socialise and unwind. \n  \n📅 Date: Tuesday\, 11 November 2025🕤 Time: 9:30am – 10:30am (followed by morning tea)📍 Location: Alf Adams Pavilion\, Mosman Park💰 Cost: Free to participate \n                    \n                \n            \n\n			\n\n\n\n\n\n	\n\n		\n            \n                \n                    Guided Art Walk at The Heritage Collective                \n            \n            \n                \n                    \n                        Join us for a special Guided Art Walk through The Heritage Collective\, led by Miranda Brown\, General Manager of Linton & Kay Galleries. This intimate tour invites you to explore the stories\, context\, and creativity behind selected artworks from the collection. \nWith Miranda’s expert insight\, you’ll gain a deeper appreciation of the artists\, their techniques\, and the heritage spaces that bring these works to life. After the tour\, enjoy a relaxed morning tea with fellow art enthusiasts. \n📅 Date: Tuesday\, 11 November 2025🕙 Tour: 10:00am – 10:45am☕ Morning Tea: 10:45am – 11:30am📍 Location: The Heritage Collective\, Corner Warton Street and Marine Parade\, Cottesloe💰 Cost: $5.50\n🔗 Bookings: https://www.trybooking.com/DGIGA \n                    \n                \n            \n\n			\n\n\n\n\n\n	\n\n		\n            \n                \n                    Free Foot Assessments with The Foot Clinic                \n            \n            \n                \n                    \n                        Step into comfort with a free foot assessment from the friendly team at The Foot Clinic. Whether you’re managing foot pain or just want to check your foot health\, this is a great opportunity to receive expert advice and care. \n📅 Date: Wednesday\, 12 November 2025🕘 Time: 9:00am – 5:00pm📍 Location: The Foot Clinic\, Cottesloe Central💰 Cost: Free📞 Bookings: Call 9384 3545 to secure your appointment \n                    \n                \n            \n\n			\n\n\n\n\n\n	\n\n		\n            \n                \n                    Paint & Sip with Kate Allen Art                \n            \n            \n                \n                    \n                        Unleash your creativity at a relaxed and inspiring Paint & Sip session with Kate Allen Art. Enjoy step-by-step guidance as you create your own masterpiece\, all while sharing laughs\, conversation\, and light refreshments with others in a welcoming space. Perfect for all skill levels — no experience needed! \n📅 Date: Wednesday\, 12 November 2025🕥 Time: 10:30am – 1:30pm📍 Location: The Lesser Hall\, Town of Cottesloe💰 Cost: $20.00🔗 Bookings: https://events.humanitix.com/seniors-paint-and-sip \n\n\n                    \n                \n            \n\n			\n\n\n\n\n\n	\n\n		\n            \n                \n                    Free Foot Assessments with The Foot Clinic – Thursday                \n            \n            \n                \n                    \n                        Step into comfort with a free foot assessment from the friendly team at The Foot Clinic. Whether you’re managing foot pain or just want to check your foot health\, this is a great opportunity to receive expert advice and care. \n📅 Date: Thursday\, 13 November 2025🕘 Time: 9:00am – 5:00pm📍 Location: The Foot Clinic\, Cottesloe Central💰 Cost: Free📞 Bookings: Call 9384 3545 to secure your appointment \n                    \n                \n            \n\n			\n\n\n\n\n\n	\n\n		\n            \n                \n                    Prime Movers Fitness & Coffee Morning                \n            \n            \n                \n                    \n                        Get active and feel great with Prime Movers — a fun\, low-impact exercise session designed to boost strength\, flexibility\, and balance while connecting with your local community. After the class\, new participants are invited to enjoy a free coffee and chat with fellow movers. \n📅 Date: Thursday\, 13 November 2025🕤 Time: 9:30am – 10:30am📍 Location: Cottesloe War Memorial Hall💰 Cost: Free to participate☕ Bonus: Free coffee for new participants after the session📞 To book: admin@mosmanpark.wa.gov.au | 9383 6600 \n                    \n                \n            \n\n			\n\n\n\n\n\n	\n\n		\n            \n                \n                    Afternoon Tea & Movie Screening: The Best Exotic Marigold Hotel                \n            \n            \n                \n                    \n                        Join us for a delightful afternoon of tea and cinema at the Heritage Collective Theatre. Begin with a relaxed afternoon tea\, followed by a screening of the heartwarming film The Best Exotic Marigold Hotel\, a story of British retirees who embark on a transformative adventure in India\, discovering that life and love can begin anew. \n📅 Date: Thursday\, 13 November 2025🕜 Afternoon Tea: 1:30pm🎬 Screening: 2:00pm – 3:40pm📍 Location: The Heritage Collective Theatre\, Corner Warton Street and Marine Parade\, Cottesloe💰 Cost: $5.50🔗 Bookings: https://www.trybooking.com/DGSMG \n                    \n                \n            \n\n			\n\n\n\n\n\n	\n\n		\n            \n                \n                    Western Metropolitan Regional Council – Beeswax Wrap Workshop                \n            \n            \n                \n                    \n                        Join WMRC for this hands-on workshop where you’ll learn how to make beeswax wraps and minimise your plastic use! 🍯 At this event\, you will hear a waste talk from WMRC’s Waste Education Officer and leave with your own beeswax wrap while feeling inspired to take action 🐝 \nDate: Friday\, 14th November \nTime: 10am – 11am \nLocation: Curtin Heritage Living\, located at 40 Marine Parade\, Cottesloe. \nParking: There is free on-site undercover parking\, accessed via the main entrance. \nLow-waste morning tea & snacks will be provided🍰 \nCost: $5.00\nTo book: Seniors Beeswax Wrap Workshop \n                    \n                \n            \n\n			\n\n\n\n\n\n	\n\n		\n            \n                \n                    Baroque Australia at The Heritage Collective                \n            \n            \n                \n                    \n                        Experience an enchanting live performance by Baroque Australia in the elegant Heritage Collective Club Lounge. Enjoy an afternoon of beautiful baroque music in a welcoming\, relaxed setting — a perfect way to celebrate the arts and connect with your community. \n📅 Date: Friday\, 14 November 2025🕒 Time: 3:00pm – 4:00pm📍 Location: The Heritage Collective Club Lounge\, Corner Warton Street and Marine Parade\, Cottesloe💰 Cost: Free to attend📞 To book: admin@mosmanpark.wa.gov.au | 9383 6600 \n                    \n                \n            \n\n			\n\n\n\nSupported by: The Heritage Collective at Curtin Heritage Living\, Prime Movers\, Lions Hearing Clinic\, Western Metropolitan Regional Council\, The Foot Clinic\, and Kate Allen Art.
URL:https://www.mosmanpark.wa.gov.au/event/seniors-week-2025/
LOCATION:WA
ATTACH;FMTTYPE=image/jpeg:https://www.mosmanpark.wa.gov.au/wp-content/uploads/2025/10/2025-Seniors-Week-Webiste-Header-Image.jpg
END:VEVENT
BEGIN:VEVENT
DTSTART;TZID=Australia/Perth:20251111T103000
DTEND;TZID=Australia/Perth:20251111T103000
DTSTAMP:20260421T161752
CREATED:20251014T064548Z
LAST-MODIFIED:20251014T064805Z
UID:14664-1762857000-1762857000@www.mosmanpark.wa.gov.au
SUMMARY:Remembrance Day 2025
DESCRIPTION:Tuesday\, 11 November | 10.30amMemorial Park\, 1 Memorial Drive\, Mosman Park \nJoin the Mosman Park RSL Sub-Branch for a Remembrance Day Commemorative Service to honour the memory of the men and women who have served – and continue to serve – in Australia’s defence forces. \nThis meaningful community service provides an opportunity to pause\, reflect\, and pay tribute to those who have made the ultimate sacrifice for our freedom. \nAll members of the community are warmly invited to attend. \nDate: Tuesday\, 11 November 2025Time: 10.30amLocation: Memorial Park\, 1 Memorial Drive\, Mosman ParkRSVP: mosman.secretary@sb.rslwa.org.au
URL:https://www.mosmanpark.wa.gov.au/event/remembrance-day-2025/
LOCATION:Memorial Park
ATTACH;FMTTYPE=image/jpeg:https://www.mosmanpark.wa.gov.au/wp-content/uploads/2025/10/17thFebruary2021_TownOfMosmanPark_Photography-23-e1760424308774.jpg
ORGANIZER;CN="Mosman Park RSL":MAILTO:mosmanpark.secretary@sb.rslwa.org.au
END:VEVENT
BEGIN:VEVENT
DTSTART;TZID=Australia/Perth:20251116T163000
DTEND;TZID=Australia/Perth:20251116T203000
DTSTAMP:20260421T161752
CREATED:20250805T032217Z
LAST-MODIFIED:20251023T054938Z
UID:14070-1763310600-1763325000@www.mosmanpark.wa.gov.au
SUMMARY:Sunset Eats 16 November 2025
DESCRIPTION:Get ready\, Mosman Park – Sunset Eats is back and bringing all the flavour\, fun and community spirit to Mann Oval. \nFrom 4:30pm\, the oval will come alive with mouth-watering food trucks\, live local music and activities for all ages. It’s the perfect chance to share a meal\, catch up with friends and neighbours\, and soak in the sunset together. \nPack your picnic rug or camp chair\, bring along your family (and your dog on a lead)\, and settle in for a relaxed evening under the Mossie Park sky. \nSunset Eats is all about good food\, good music and even better company – a neighbourhood gathering where everyone is welcome. \n  \nList of food truck vendors \nCanarian Cuisine \nRJ’s Kai Kart \nStreet Food Lab \nMama Poverello’s Pizza \nMr Goz \nMild Bite \nJust Chillin \nZab Salad Indian Food \nWho gives a crepe \nDemz Cones \n  \nFAQs\nWhat is free to the community?\nEntry plus all the activities are free. The food trucks will charge for food and beverages. \nWhat food will be served at Sunset Eats?\nA variety of street food options will be available. We will provide the list of food vendors closer to the event here on our website and Facebook page. \nAm I allowed to bring alcohol to Sunset Eats?\nSunset Eats is an alcohol-free event. \nHow do we get to Sunset Eats?\nWalk: Work up an appetite and walk with your neighbours\nBus: Transperth Route 107 stop on Victoria Street\nCycle: there is a temporary bike rack near Alf Adams Pavilion\nCar: street parking is located on Lochee Street. ACROD Parking available south of Alf Adams Pavilion. \nWe highly encourage walking\, cycling or carpooling to the event if you can. \nCan I bring my dog?\nYes! But they’ll need to be on a lead at all times at the event. \nIs there seating at the event?\nLimited seating is available at picnic benches in the area. We recommend bringing your own picnic rug\, a blanket or a camp chair. \nAre there toilets at the event?\nYes. An accessible toilet is available outside the Alf Adams Pavilion. Toilets will be signposted at the event. \nWhat are the future dates of Sunset Eats?\nSunday 22 February 2026\, other 2026 dates to be confirmed. \n  \n           
URL:https://www.mosmanpark.wa.gov.au/event/sunseteatsnovember2025/
LOCATION:Mann Oval\, Near corner of Lochee and Solomon Sts\, Mosman Park\, WA\, 6012\, Australia
ATTACH;FMTTYPE=image/jpeg:https://www.mosmanpark.wa.gov.au/wp-content/uploads/2025/08/2025-Sunset-Eats-Website-Event-Image-NOV.jpg
ORGANIZER;CN="Town of Mosman Park":MAILTO:admin@mosmanpark.wa.gov.au
END:VEVENT
END:VCALENDAR