BEGIN:VCALENDAR
VERSION:2.0
PRODID:-//Town of Mosman Park - ECPv6.15.20//NONSGML v1.0//EN
CALSCALE:GREGORIAN
METHOD:PUBLISH
X-ORIGINAL-URL:https://www.mosmanpark.wa.gov.au
X-WR-CALDESC:Events for Town of Mosman Park
REFRESH-INTERVAL;VALUE=DURATION:PT1H
X-Robots-Tag:noindex
X-PUBLISHED-TTL:PT1H
BEGIN:VTIMEZONE
TZID:Australia/Perth
BEGIN:STANDARD
TZOFFSETFROM:+0800
TZOFFSETTO:+0800
TZNAME:AWST
DTSTART:20250101T000000
END:STANDARD
END:VTIMEZONE
BEGIN:VEVENT
DTSTART;TZID=Australia/Perth:20260425T094500
DTEND;TZID=Australia/Perth:20260425T113000
DTSTAMP:20260420T115945
CREATED:20260203T050125Z
LAST-MODIFIED:20260415T102052Z
UID:15285-1777110300-1777116600@www.mosmanpark.wa.gov.au
SUMMARY:ANZAC Day 2026
DESCRIPTION:ANZAC Day Commemoration Service\nPlease join us at the Town of Mosman Park as we commemorate the service and supreme sacrifice of Australian men and women who have represented our nation in conflicts in our region and around the world. \nThe ANZAC Day Commemoration Service will take place at 9:45am in Memorial Park\, on the corner Bay View Terrace and Memorial Drive\, Mosman Park. Seating will be provided. \nThe commemorative service is conducted by the Town of Mosman Park in conjunction with the Mosman Park Sub-Branch of the RSL. \nPlease join us for tea\, coffee and biscuits following the service. \nFAQs \nHow do we get to the ANZAC Day Commemorations in Memorial Park?  \nThe Town highly encourages walking\, cycling\, or carpooling to the event. There is limited car-parking available. \nWalk: Walk with your family\, friends or neighbours \nBus: Transperth Bus Route 107\, stopping at Palmerston Street. \nCycle: Bike racks are available at the Town’s Administration Building. \nCar: Please do not park on the lawn of Memorial Park. Street parking is located on Memorial Drive. ACROD Parking available in the Town of Mosman Park administration building carpark close to the event seating with low gradient brick pathways and lawn. Additional carparks are available in Jabe Dodd Park\, accessed from Bay View Tce (north of Mosman Park Bowling Club) and Johnson Parade (near the Swan Canoe Club and there is a short steep gradient walk). \nWhat is free to the community?\nThis a free event. \nAm I allowed to bring alcohol to the ANZAC Day commemorations?\nThe ANZAC Day event in Memorial Park is an alcohol-free event. \nCan I bring my dog?\nYes! But they’ll need to be on a lead at all times at the event. \nIs there seating at the event?\nSeating will be available on the lawn. You are welcome to BYO seating if preferred. \nAre there toilets at the event?\nYes. An accessible toilet is available inside the Town of Mosman Park Administration Building. Toilets will be signposted at the event. \nI would like to lay a wreath \nWreaths are a commemorative symbol for ANZAC Day. The Commemoration Service includes time for ‘Laying of the Wreaths.’ After laying a wreath\, the person stands to attention and bows their head (or salutes if wearing military uniform). If you would like to bring a wreath\, you will need to organise this yourself\, the Town or RSL will not organise for you.
URL:https://www.mosmanpark.wa.gov.au/event/anzac-day-2026/
LOCATION:Memorial Park
ATTACH;FMTTYPE=image/jpeg:https://www.mosmanpark.wa.gov.au/wp-content/uploads/2026/02/04_ToMP_ANZAC_2025_103-scaled.jpg
END:VEVENT
END:VCALENDAR